BEGIN:VCALENDAR
VERSION:2.0
PRODID:-//hacksw/handcal//NONSGML v1.0//EN
BEGIN:VEVENT
SUMMARY:ECOLE VTT
UID:bd5447c3-3d93-4f77-bcbf-e347cee6fc0c
DTSTART:20260425T114500Z
DTEND:20260425T143000Z
LOCATION:Local du Club Local 19700 ST CLEMENT
CATEGORIES:Entrainement
STATUS:
URL;VALUE=URI:https://www.ccstclement.org/evenements/2026/04/25/ecole-vtt-2443096
END:VEVENT
END:VCALENDAR
