BEGIN:VCALENDAR
VERSION:2.0
PRODID:-//hacksw/handcal//NONSGML v1.0//EN
BEGIN:VEVENT
SUMMARY:Saint-Clement en Randos 2026
UID:8e710569-cc98-48d8-a0e4-7b24f6563892
DTSTART:20260614T050000Z
DTEND:20260614T220000Z
LOCATION:Localisation   
CATEGORIES:Manifestation
STATUS:
URL;VALUE=URI:https://www.ccstclement.org/evenements/2026/06/14/saint-clement-en-randos-2026-2443325
END:VEVENT
END:VCALENDAR
